BEGIN:VCALENDAR
VERSION:2.0
PRODID:-//Gwinnett County Black Chamber of Commerce - ECPv6.15.20//NONSGML v1.0//EN
CALSCALE:GREGORIAN
METHOD:PUBLISH
X-WR-CALNAME:Gwinnett County Black Chamber of Commerce
X-ORIGINAL-URL:https://blackchambergwinnett.com
X-WR-CALDESC:Events for Gwinnett County Black Chamber of Commerce
REFRESH-INTERVAL;VALUE=DURATION:PT1H
X-Robots-Tag:noindex
X-PUBLISHED-TTL:PT1H
BEGIN:VTIMEZONE
TZID:UTC
BEGIN:STANDARD
TZOFFSETFROM:+0000
TZOFFSETTO:+0000
TZNAME:UTC
DTSTART:20240101T000000
END:STANDARD
END:VTIMEZONE
BEGIN:VEVENT
DTSTART;TZID=UTC:20250115T180000
DTEND;TZID=UTC:20250115T200000
DTSTAMP:20260420T033145
CREATED:20250105T210340Z
LAST-MODIFIED:20250124T211902Z
UID:595-1736964000-1736971200@blackchambergwinnett.com
SUMMARY:Gwinnett County Black Chamber of Commerce Monthly Meeting
DESCRIPTION:You’re invited to Gwinnett County Black Chamber of Commerce (GCBCC) monthly meeting. The event is free and open to the public — in-person. We meet every 3rd Wednesday of the month at various locations throughout Gwinnett. \nTHIS IS AN IN-PERSON EVENT \nWho should attend? \nGwinnett County Black entrepreneurs\, small business owners\, non-profit organization leaders\, community leaders in the county\, as well as business owners supporting and serving the area should attend. \nMeeting Agenda \nAttendee Introductions\nNetworking and Giveaways\nGCBCC Announcements – Organization Updates\, Funding\, Grants\, County News\nSpeedCollab – a business speed dating event.\n#BuyBlackFridays – we are visiting Black businesses in Gwinnett County each month.
URL:https://blackchambergwinnett.com/event/gwinnett-county-black-chamber-of-commerce-monthly-meeting-3/
LOCATION:Serbea Living African Restaurant\, 2930 Old Norcross Road\, Duluth\, GA\, 30096\, United States
CATEGORIES:Black-Owned Businesses,Gwinnett County Black Chamber of Commerce
ATTACH;FMTTYPE=image/jpeg:https://blackchambergwinnett.com/wp-content/uploads/2025/01/GCBCC-monthly-meeting-jan2025.jpg
ORGANIZER;CN="Gwinnett County Black Chamber of Commerce":MAILTO:contact@blackchambergwinnett.com
END:VEVENT
END:VCALENDAR