BEGIN:VCALENDAR
VERSION:2.0
PRODID:-//Gwinnett County Black Chamber of Commerce - ECPv6.15.20//NONSGML v1.0//EN
CALSCALE:GREGORIAN
METHOD:PUBLISH
X-ORIGINAL-URL:https://blackchambergwinnett.com
X-WR-CALDESC:Events for Gwinnett County Black Chamber of Commerce
REFRESH-INTERVAL;VALUE=DURATION:PT1H
X-Robots-Tag:noindex
X-PUBLISHED-TTL:PT1H
BEGIN:VTIMEZONE
TZID:UTC
BEGIN:STANDARD
TZOFFSETFROM:+0000
TZOFFSETTO:+0000
TZNAME:UTC
DTSTART:20250101T000000
END:STANDARD
END:VTIMEZONE
BEGIN:VEVENT
DTSTART;TZID=UTC:20260121T180000
DTEND;TZID=UTC:20260121T200000
DTSTAMP:20260425T124507
CREATED:20260120T233634Z
LAST-MODIFIED:20260120T233653Z
UID:936-1769018400-1769025600@blackchambergwinnett.com
SUMMARY:Gwinnett County Black Chamber of Commerce (GCBCC) Monthly Meeting
DESCRIPTION:You’re invited to Gwinnett County Black Chamber of Commerce (GCBCC) monthly meeting. The event is open to the public and in-person. \nWho should attend? Black entrepreneurs in Gwinnett County! \nRegister to attend the next GCBCC meeting – https://events.humanitix.com/gwinnett-county-black-chamber-of-commerce-gcbcc-monthly-meeting. \nBecome a member of GCBCC today – https://blackchambergwinnett.com/products/gcbcc-memberships-annual/. \nSign up for Blackpreneurs\, the GCBCC Black-own businesses directory at https://www.blackpreneurs.org/. \nQuestions – call Renee at 404.590.4716.
URL:https://blackchambergwinnett.com/event/gwinnett-county-black-chamber-of-commerce-gcbcc-monthly-meeting/
LOCATION:Fingerz\, 2115 Main Street East\, Snellville\, GA\, 30078\, United States
CATEGORIES:Black-Owned Businesses,Gwinnett County,Gwinnett County Young Black Entrepreneurs,Small Business,Youthpreneurs
ATTACH;FMTTYPE=image/jpeg:https://blackchambergwinnett.com/wp-content/uploads/2025/06/gcbcc-monthly-meeting-general.jpg
ORGANIZER;CN="Gwinnett County Black Chamber of Commerce":MAILTO:contact@blackchambergwinnett.com
END:VEVENT
END:VCALENDAR