BEGIN:VCALENDAR
VERSION:2.0
PRODID:-//Gwinnett County Black Chamber of Commerce - ECPv6.15.20//NONSGML v1.0//EN
CALSCALE:GREGORIAN
METHOD:PUBLISH
X-WR-CALNAME:Gwinnett County Black Chamber of Commerce
X-ORIGINAL-URL:https://blackchambergwinnett.com
X-WR-CALDESC:Events for Gwinnett County Black Chamber of Commerce
REFRESH-INTERVAL;VALUE=DURATION:PT1H
X-Robots-Tag:noindex
X-PUBLISHED-TTL:PT1H
BEGIN:VTIMEZONE
TZID:UTC
BEGIN:STANDARD
TZOFFSETFROM:+0000
TZOFFSETTO:+0000
TZNAME:UTC
DTSTART:20240101T000000
END:STANDARD
END:VTIMEZONE
BEGIN:VEVENT
DTSTART;TZID=UTC:20250815T190000
DTEND;TZID=UTC:20250816T220000
DTSTAMP:20260421T195402
CREATED:20250723T021213Z
LAST-MODIFIED:20250723T021410Z
UID:853-1755284400-1755381600@blackchambergwinnett.com
SUMMARY:Gwinnett Black Business Power Weekend 2025
DESCRIPTION:Join the Gwinnett County Black Chamber of Commerce (GCBCC) for “Gwinnett Black Business Power Weekend 2025.” We are celebrating Black business owners during the National Black Business Month! Register today and support Black business owners while networking with the community in Gwinnett County. This event is open to the public. Family-friendly. Activities for youth\, as well as trivia\, learning sessions\, and giveaways! \nFriday\, August 15 and Saturday\, August 16 — A Taste of Black Gwinnett – 7-10pm \nA flavorful celebration of Black culture and community. This evening mixer highlights Gwinnett’s Black-owned food service\, products\, services\, along with music and meaningful connections. \nSaturday\, August 16 — Gwinnett Black Business Training Day – Level Up with Knowledge That Pays 2025 – Noon – 5pm \nA transformational business experience featuring: \n\nEntrepreneurship training\nOne-on-one expert coaching\nBusiness credit + funding workshops\nGlobal partnerships (USA\, Africa\, Brazil)\nVendor exhibits and Black B2B networking\n\nBlack Youthpreneur Zone – Friday and Saturday\, August 15-16\, 2025 – 7-10pm \nCultivating the next generation of leaders and wealth builders with: \n\nYouth entrepreneur showcases\nHands-on workshops (branding\, e-commerce\, pitching)\nMentorship from business pros\nDigital tools + startup support\n\nAre you a business owner? Exhibit your products and/or services as a vendor during A Taste of Black Gwinnett. Register early! Vendors receive a table\, two chairs\, black tablecloth and marketing by Gwinnett County Black Chamber of Commerce and Black Gwinnett Magazine. Get your vendor table ticket now! \nSPONSORS \nPresented by Gwinnett County Black Chamber of Commerce\, Urban Mediamakers\, Black Gwinnett Magazine and Camrose Creative Services. Become a sponsors of GCBCC Gwinnett Black Business Power Weekend 2025 today. \nContact Renee with questions at 404.590.4716. \n______________ \nThe Gwinnett County Black Chamber of Commerce (GCBCC) organizing committee of this event is committed to creating an inclusive and accessible event for all members of the community. We aim to foster cultural understanding and appreciation while offering a space for Gwinnett County businesses and entrepreneurs from the Black diaspora to flourish and gain visibility. Visit the organization at https://blackchambergwinnett.com. \nGCBCC\, it volunteers\, staff\, affiliates\, and sponsors are not liable for any personal or product injury at this event.
URL:https://blackchambergwinnett.com/event/gwinnett-black-business-power-weekend-2025/
LOCATION:Norcross Cultural Art and Community Center\, 10 College Street\, Norcross\, GA\, 30071\, United States
CATEGORIES:A Taste of Black Gwinnett,Black-Owned Businesses,Gwinnett County,Gwinnett County Black Chamber of Commerce,Training
ATTACH;FMTTYPE=image/jpeg:https://blackchambergwinnett.com/wp-content/uploads/2025/07/GwinnettBlackBusinessPowerWeekend.jpg
ORGANIZER;CN="Gwinnett County Black Chamber of Commerce":MAILTO:contact@blackchambergwinnett.com
END:VEVENT
BEGIN:VEVENT
DTSTART;TZID=UTC:20250816T120000
DTEND;TZID=UTC:20250816T170000
DTSTAMP:20260421T195403
CREATED:20250723T022111Z
LAST-MODIFIED:20250723T022232Z
UID:857-1755345600-1755363600@blackchambergwinnett.com
SUMMARY:Gwinnett Black Business Power Training Day - Level Up with Knowledge That Pays
DESCRIPTION:Join the Gwinnett County Black Chamber of Commerce (GCBCC) for “Gwinnett Black Business Power Training Day – Level Up with Knowledge That Pays 2025.” Our training sessions will focus on : \nAI\, financial empowerment and sales growth. \n\nEntrepreneur + Youthpreneur Workshops\nFinancial Literacy and Funding Access\nTech and Business Exhibitors\nSelling Your Brand\nOne-on-One Coaching + Global Partnership Panels\nIndustry Experts/Speakers: EJ ‘Edge’ Bassette\, Zenith Carter\, Cheryle Renee Moses\, Quentin Moses\, Michael Syphoe (more speakers listed on confirmation).\n\nSPONSORS \nPresented by Gwinnett County Black Chamber of Commerce\, Urban Mediamakers\, Black Gwinnett Magazine and Camrose Creative Services. \nContact Renee with questions at 404.590.4716. \n______________ \nThe Gwinnett County Black Chamber of Commerce (GCBCC) organizing committee of this event is committed to creating an inclusive and accessible event for all members of the community. We aim to foster cultural understanding and appreciation while offering a space for Gwinnett County businesses and entrepreneurs from the Black diaspora to flourish and gain visibility. Visit the organization at https://blackchambergwinnett.com. \nGCBCC\, it volunteers\, staff\, affiliates\, and sponsors are not liable for any personal or product injury at this event.
URL:https://blackchambergwinnett.com/event/gwinnett-black-business-power-training-day-level-up-with-knowledge-that-pays/
LOCATION:Norcross Cultural Art and Community Center\, 10 College Street\, Norcross\, GA\, 30071\, United States
CATEGORIES:Black-Owned Businesses,Business Vision,Gwinnett County,Gwinnett County Black Chamber of Commerce,Gwinnett Economic Development Department,Small Business,Training
ATTACH;FMTTYPE=image/jpeg:https://blackchambergwinnett.com/wp-content/uploads/2025/07/AI-Training-Series.jpg
ORGANIZER;CN="Gwinnett County Black Chamber of Commerce":MAILTO:contact@blackchambergwinnett.com
END:VEVENT
END:VCALENDAR