BEGIN:VCALENDAR
VERSION:2.0
PRODID:-//Gwinnett County Black Chamber of Commerce - ECPv6.15.20//NONSGML v1.0//EN
CALSCALE:GREGORIAN
METHOD:PUBLISH
X-WR-CALNAME:Gwinnett County Black Chamber of Commerce
X-ORIGINAL-URL:https://blackchambergwinnett.com
X-WR-CALDESC:Events for Gwinnett County Black Chamber of Commerce
REFRESH-INTERVAL;VALUE=DURATION:PT1H
X-Robots-Tag:noindex
X-PUBLISHED-TTL:PT1H
BEGIN:VTIMEZONE
TZID:UTC
BEGIN:STANDARD
TZOFFSETFROM:+0000
TZOFFSETTO:+0000
TZNAME:UTC
DTSTART:20250101T000000
END:STANDARD
END:VTIMEZONE
BEGIN:VEVENT
DTSTART;TZID=UTC:20260520T180000
DTEND;TZID=UTC:20260520T210000
DTSTAMP:20260425T165109
CREATED:20260121T000442Z
LAST-MODIFIED:20260420T190253Z
UID:944-1779300000-1779310800@blackchambergwinnett.com
SUMMARY:Gwinnett County Black Chamber of Commerce (GCBCC) Monthly Meeting
DESCRIPTION:You’re invited to Gwinnett County Black Chamber of Commerce (GCBCC) monthly meeting during A TASTE OF BLACK GWINNETT: SMALL BUSINESS MONTH EDITION 2026. The event is open to the public and in-person. \nWho should attend? Black entrepreneurs in Gwinnett County! \nRegister to attend the next GCBCC meeting – https://events.humanitix.com/gwinnett-county-black-chamber-of-commerce-gcbcc-monthly-meeting. \nBecome a member of GCBCC today – https://blackchambergwinnett.com/products/gcbcc-memberships-annual/. \nSign up for Blackpreneurs\, the GCBCC Black-own businesses directory at https://www.blackpreneurs.org/. \nQuestions – call Renee at 404.590.4716.
URL:https://blackchambergwinnett.com/event/944/
LOCATION:Norcross Cultural Art and Community Center\, 10 College Street\, Norcross\, GA\, 30071\, United States
CATEGORIES:Black-Owned Businesses,Buy Black,Gwinnett County,Gwinnett County Black Chamber of Commerce,Small Business,Youthpreneurs
ATTACH;FMTTYPE=image/jpeg:https://blackchambergwinnett.com/wp-content/uploads/2025/06/gcbcc-monthly-meeting-general.jpg
ORGANIZER;CN="Gwinnett County Black Chamber of Commerce":MAILTO:contact@blackchambergwinnett.com
END:VEVENT
BEGIN:VEVENT
DTSTART;TZID=UTC:20260520T180000
DTEND;TZID=UTC:20260520T210000
DTSTAMP:20260425T165109
CREATED:20260420T190833Z
LAST-MODIFIED:20260420T200510Z
UID:1060-1779300000-1779310800@blackchambergwinnett.com
SUMMARY:A Taste of Black Gwinnett - Small Business Month Edition 2026
DESCRIPTION:We invite you to join the Gwinnett County Black Chamber of Commerce (GCBCC) for “A Taste of Black Gwinnett – Small Business Month Edition 2026.” \nOur vendors include: \n— Black Gwinnett Magazine – Print and digital publication distributed to neighborhoods and businesses throughout Gwinnett County.\n— Blackpreneurs.org – Black-owned businesses listing. Being intentional about “buying Black” and collaborating in Black communities.\n— Camrose Creative Services – Catering\, events\, marketing communications\, and training.\n— Elisme Consulting Services – Trauma-responsive leadership and burnout prevention for organizations.\n— FutureFrames Creative Youth Summer Camp – One-week camp for youth presented by the Urban Mediamakers.\n— L&M Middle Prep Academy – A Black-owned private middle school with only 13 students in each grade.\n— Moses-Ragsdale Kitchen – Soul food and desserts.\n— The City Bodega Cafe – Serving flavor\, comfort\, and community.\n— The Vibe Tea House – Where ancient herbal wisdom meets modern functional science.\n— Urban Mediamakers Film Festival – Celebrating 25 years in 2026\, an annual international festival in Gwinnett. \nBecome a vendor of “A Taste of Black Gwinnett” happening May 20\, 2026. Exhibit your products and/or services as a vendor during A Taste of Black Gwinnett. Vendors receive a table\, two chairs\, and marketing by Gwinnett County Black Chamber of Commerce and Black Gwinnett Magazine. For more information on being a vendor at the event\, contact Renee at 404.590.4716. \nSPONSORS: Presented by Gwinnett County Black Chamber of Commerce\, Urban Mediamakers\, Black Gwinnett Magazine and Camrose Creative Services. \nContact Renee with questions at 404.590.4716. \n______________ \nThe Gwinnett County Black Chamber of Commerce (GCBCC) organizing committee of this event is committed to creating an inclusive and accessible event for all members of the community. We aim to foster cultural understanding and appreciation while offering a space for Gwinnett County businesses and entrepreneurs from the Black diaspora to flourish and gain visibility. Visit the organization at https://blackchambergwinnett.com. \nGCBCC\, it volunteers\, staff\, affiliates\, and sponsors are not liable for any personal or product injury at this event.
URL:https://blackchambergwinnett.com/event/1060/
LOCATION:Norcross Cultural Art and Community Center\, 10 College Street\, Norcross\, GA\, 30071\, United States
CATEGORIES:A Taste of Black Gwinnett,Black Community,Black-Owned Businesses,Buy Black,Gwinnett County Black Chamber of Commerce,Gwinnett Economic Development Department,Small Business
ATTACH;FMTTYPE=image/jpeg:https://blackchambergwinnett.com/wp-content/uploads/2026/04/ATABG-May2026-banner.jpg
ORGANIZER;CN="Gwinnett County Black Chamber of Commerce":MAILTO:contact@blackchambergwinnett.com
END:VEVENT
END:VCALENDAR