BEGIN:VCALENDAR
VERSION:2.0
PRODID:-//Gwinnett County Black Chamber of Commerce - ECPv6.15.20//NONSGML v1.0//EN
CALSCALE:GREGORIAN
METHOD:PUBLISH
X-WR-CALNAME:Gwinnett County Black Chamber of Commerce
X-ORIGINAL-URL:https://blackchambergwinnett.com
X-WR-CALDESC:Events for Gwinnett County Black Chamber of Commerce
REFRESH-INTERVAL;VALUE=DURATION:PT1H
X-Robots-Tag:noindex
X-PUBLISHED-TTL:PT1H
BEGIN:VTIMEZONE
TZID:UTC
BEGIN:STANDARD
TZOFFSETFROM:+0000
TZOFFSETTO:+0000
TZNAME:UTC
DTSTART:20250101T000000
END:STANDARD
END:VTIMEZONE
BEGIN:VEVENT
DTSTART;TZID=UTC:20260221T100000
DTEND;TZID=UTC:20260221T140000
DTSTAMP:20260420T033512
CREATED:20260121T052427Z
LAST-MODIFIED:20260121T052705Z
UID:995-1771668000-1771682400@blackchambergwinnett.com
SUMMARY:FutureReady™ - Artificial Intelligence (AI) Prompt Engineering Bootcamp for Non-Tech Folks
DESCRIPTION:Use AI Confidently for Life\, Work & Business — No Tech Skills Required\nAI is no longer optional — but you don’t need to be technical to use it powerfully. \nFutureReady™: AI Prompt Engineering for Non-Tech Folks is a hands-on\, beginner-friendly workshop designed for everyday people\, professionals\, entrepreneurs\, seniors\, educators\, and community leaders who want to use AI with confidence\, clarity\, and purpose. \nThis is not a coding class. \nThis is about learning how to talk to AI\, guide it\, and use it as a practical assistant for real life and real work. \nWhether you want to save time\, stay competitive\, support your career\, grow a business\, or simply understand what AI can actually do for you — this workshop meets you where you are. \nWho This Workshop Is For\n\nNon-tech folks (no computer background required)\nProfessionals & job seekers\nEntrepreneurs & small business owners\nNonprofit leaders & community organizers\nSeniors & lifelong learners\nAnyone feeling overwhelmed by AI but ready to learn\n\nIf you use email\, write documents\, manage tasks\, plan events\, market something\, or make decisions — this is for you. \nRegister today at https://www.eventbrite.com/e/1980041401132?aff=oddtdtcreator. Discount for students and seniors 50+. \nWhat You’ll Learn & Gain\n• AI Without the Overwhelm: Understand what AI really is\, how it works\, and how to use it safely and responsibly in everyday life\, work\, and business. \n• Prompt Engineering for Non-Tech Folks: Learn the art of “talking to AI” so you can get clear\, useful\, and consistent results — without guessing or frustration. \n• Save Time Every Week: Use AI as your 24/7 assistant for writing\, planning\, organizing\, brainstorming\, and decision-making. \n• Real-World Use Cases: See how AI supports: \n\ndaily tasks & admin\nwriting & communication\nmarketing & content\ncareer planning\npersonal organization\n\n• Done-For-You Tools: Walk away with: \n\nplug-and-play prompt templates\na starter “AI Prompt Bank”\na personal AI action plan you can use immediately\n\nNo coding. No tech jargon. No pressure.\nJust practical skills you can use the same day. \nInstructor: Cheryle Renee Moses — Spiritual Technologist\, AI Trainer\, and Prompt Engineer. \nPresented by: Gwinnett County Black Chamber of Commerce. \nSpots are limited — Reserve your seat today and transform the way you manage life! \nQuestions: Call us at 404.590.4716.
URL:https://blackchambergwinnett.com/event/futureready-artificial-intelligence-ai-prompt-engineering-bootcamp-for-non-tech-folks/
LOCATION:Norcross Cultural Art and Community Center\, 10 College Street\, Norcross\, GA\, 30071\, United States
CATEGORIES:Artificial Intelligence (AI),Black Community,Gwinnett County,Training
ATTACH;FMTTYPE=image/jpeg:https://blackchambergwinnett.com/wp-content/uploads/2026/01/robot-on-keyboard-2.jpg
ORGANIZER;CN="Gwinnett County Black Chamber of Commerce":MAILTO:contact@blackchambergwinnett.com
END:VEVENT
END:VCALENDAR