BEGIN:VCALENDAR
VERSION:2.0
PRODID:-//Gwinnett County Black Chamber of Commerce - ECPv6.15.20//NONSGML v1.0//EN
CALSCALE:GREGORIAN
METHOD:PUBLISH
X-ORIGINAL-URL:https://blackchambergwinnett.com
X-WR-CALDESC:Events for Gwinnett County Black Chamber of Commerce
REFRESH-INTERVAL;VALUE=DURATION:PT1H
X-Robots-Tag:noindex
X-PUBLISHED-TTL:PT1H
BEGIN:VTIMEZONE
TZID:UTC
BEGIN:STANDARD
TZOFFSETFROM:+0000
TZOFFSETTO:+0000
TZNAME:UTC
DTSTART:20240101T000000
END:STANDARD
END:VTIMEZONE
BEGIN:VEVENT
DTSTART;TZID=UTC:20250625T180000
DTEND;TZID=UTC:20250625T200000
DTSTAMP:20260423T171931
CREATED:20250503T194748Z
LAST-MODIFIED:20250626T203801Z
UID:763-1750874400-1750881600@blackchambergwinnett.com
SUMMARY:Gwinnett County Black Chamber of Commerce Monthly Meeting
DESCRIPTION:You’re invited to Gwinnett County Black Chamber of Commerce (GCBCC) monthly meeting. The event is open to the public and in-person. Who should attend? Black entrepreneurs in Gwinnett County! Register to attend the next GCBCC meeting – https://events.humanitix.com/gwinnett-county-black-chamber-of-commerce-gcbcc-monthly-meeting. \nSign up for Blackpreneurs.org\, the GCBCC Black-own businesses directory at https://www.blackpreneurs.org/.
URL:https://blackchambergwinnett.com/event/gwinnett-county-black-chamber-of-commerce-monthly-meeting-5/
LOCATION:The Wing Suite\, 3370 Sugarloaf Pkwy.\, Lawrenceville\, GA\, 30044\, United States
CATEGORIES:Black-Owned Businesses,Gwinnett County,Gwinnett County Black Chamber of Commerce
ATTACH;FMTTYPE=image/jpeg:https://blackchambergwinnett.com/wp-content/uploads/2025/01/gcbcc-monthly-meeting-general.jpg
ORGANIZER;CN="Gwinnett County Black Chamber of Commerce":MAILTO:contact@blackchambergwinnett.com
END:VEVENT
END:VCALENDAR