BEGIN:VCALENDAR
VERSION:2.0
PRODID:-//Gwinnett County Black Chamber of Commerce - ECPv6.15.20//NONSGML v1.0//EN
CALSCALE:GREGORIAN
METHOD:PUBLISH
X-WR-CALNAME:Gwinnett County Black Chamber of Commerce
X-ORIGINAL-URL:https://blackchambergwinnett.com
X-WR-CALDESC:Events for Gwinnett County Black Chamber of Commerce
REFRESH-INTERVAL;VALUE=DURATION:PT1H
X-Robots-Tag:noindex
X-PUBLISHED-TTL:PT1H
BEGIN:VTIMEZONE
TZID:UTC
BEGIN:STANDARD
TZOFFSETFROM:+0000
TZOFFSETTO:+0000
TZNAME:UTC
DTSTART:20240101T000000
END:STANDARD
END:VTIMEZONE
BEGIN:VEVENT
DTSTART;TZID=UTC:20250301T080000
DTEND;TZID=UTC:20250402T233000
DTSTAMP:20260423T000543
CREATED:20250311T000422Z
LAST-MODIFIED:20250311T000524Z
UID:650-1740816000-1743636600@blackchambergwinnett.com
SUMMARY:"Best of the Best" Gwinnett Black-Owned Businesses - Voting Open Now!
DESCRIPTION:The Gwinnett County Black Chamber of Commerce (GCBCC) proudly presents the “Best of the Best” Gwinnett Black-Owned Businesses\, celebrating excellence\, innovation\, and impact within our local Black business community! \nVoting is now open through Wednesday\, April 2\, 2025! \nThis is your chance to recognize and uplift the outstanding Black-owned businesses that make Gwinnett thrive. From restaurants to retail\, service providers to creatives—nominate and vote for the businesses that deserve to be honored as the Best of the Best! \nKey Dates:Voting Period: Now – April 2\, 2025Winners Announced: April 18\, 2025 during the Gwinnett Black Business Awards \nHow to Participate:✔️ Visit Vote for “Best of the Best” Gwinnett County Black Businesses✔️ Nominate your favorite Black-owned businesses across multiple categories✔️ Share and encourage others to vote! \nLet’s shine a spotlight on Black entrepreneurship and excellence in Gwinnett! #BestOfGwinnettBlackBiz #GCBCC
URL:https://blackchambergwinnett.com/event/best-of-the-best-gwinnett-black-businesses-vote-today/
LOCATION:Online\, P.O. Box 1905\, Lilburn\, GA\, 30048\, United States
CATEGORIES:Best-of-the-Best,Black-Owned Businesses
ATTACH;FMTTYPE=image/jpeg:https://blackchambergwinnett.com/wp-content/uploads/2025/03/Best-of-the-Best-2025.jpg
ORGANIZER;CN="Gwinnett County Black Chamber of Commerce":MAILTO:contact@blackchambergwinnett.com
END:VEVENT
END:VCALENDAR